View In:
ArcGIS JavaScript
ArcGIS Online Map Viewer
ArcGIS Earth
ArcMap
View Footprint In:
ArcGIS Online Map Viewer
Service Description: BV_Imagery/DTM_2022
Name: BV_Imagery/DTM_2022
Description:
Single Fused Map Cache: false
Extent:
XMin: 302532.2322771633
YMin: 4889774.442936342
XMax: 320392.2322771633
YMax: 4913457.442936342
Spatial Reference: 2149
(2959)
Initial Extent:
XMin: 302532.2322771633
YMin: 4889774.442936342
XMax: 320392.2322771633
YMax: 4913457.442936342
Spatial Reference: 2149
(2959)
Full Extent:
XMin: 302532.2322771633
YMin: 4889774.442936342
XMax: 320392.2322771633
YMax: 4913457.442936342
Spatial Reference: 2149
(2959)
Pixel Size X: 0.5
Pixel Size Y: 0.5
Band Count: 1
Pixel Type: U8
RasterFunction Infos: {"rasterFunctionInfos": [{
"name": "None",
"description": "",
"help": ""
}]}
Mensuration Capabilities: Basic
Has Histograms: true
Has Colormap: false
Has Multi Dimensions : false
Rendering Rule:
Min Scale: 0
Max Scale: 0
Copyright Text:
Service Data Type: esriImageServiceDataTypeGeneric
Min Values: 54
Max Values: 202
Mean Values: 114.4862677301086
Standard Deviation Values: 21.24167631000598
Object ID Field:
Fields:
None
Default Mosaic Method: Center
Allowed Mosaic Methods:
SortField:
SortValue: null
Mosaic Operator: First
Default Compression Quality: 75
Default Resampling Method: Bilinear
Max Record Count: null
Max Image Height: 4100
Max Image Width: 15000
Max Download Image Count: null
Max Mosaic Image Count: null
Allow Raster Function: true
Allow Copy: true
Allow Analysis: true
Allow Compute TiePoints: false
Supports Statistics: false
Supports Advanced Queries: false
Use StandardizedQueries: true
Raster Type Infos:
Name: Raster Dataset
Description: Supports all ArcGIS Raster Datasets
Help:
Has Raster Attribute Table: false
Edit Fields Info: null
Ownership Based AccessControl For Rasters: null
Child Resources:
Info
Histograms
Statistics
Key Properties
Legend
Raster Function Infos
Supported Operations:
Export Image
Identify
Measure
Compute Histograms
Compute Statistics Histograms
Get Samples
Compute Class Statistics
Query Boundary
Compute Pixel Location
Compute Angles
Validate
Project