{
 "currentVersion": 10.91,
 "serviceDescription": "BV_Imagery/DTM_2022",
 "name": "BV_Imagery/DTM_2022",
 "description": "",
 "extent": {
  "xmin": 302532.2322771633,
  "ymin": 4889774.442936342,
  "xmax": 320392.2322771633,
  "ymax": 4913457.442936342,
  "spatialReference": {
   "wkid": 2149,
   "latestWkid": 2959
  }
 },
 "initialExtent": {
  "xmin": 302532.2322771633,
  "ymin": 4889774.442936342,
  "xmax": 320392.2322771633,
  "ymax": 4913457.442936342,
  "spatialReference": {
   "wkid": 2149,
   "latestWkid": 2959
  }
 },
 "fullExtent": {
  "xmin": 302532.2322771633,
  "ymin": 4889774.442936342,
  "xmax": 320392.2322771633,
  "ymax": 4913457.442936342,
  "spatialReference": {
   "wkid": 2149,
   "latestWkid": 2959
  }
 },
 "hasMultidimensions": false,
 "pixelSizeX": 0.5,
 "pixelSizeY": 0.5,
 "datasetFormat": "FGDBR",
 "uncompressedSize": 1691913520,
 "blockWidth": 128,
 "blockHeight": 128,
 "compressionType": "LZ77",
 "bandNames": [
  "Band_1"
 ],
 "allowCopy": true,
 "allowAnalysis": true,
 "bandCount": 1,
 "pixelType": "U8",
 "minPixelSize": 0,
 "maxPixelSize": 0,
 "copyrightText": "",
 "serviceDataType": "esriImageServiceDataTypeGeneric",
 "serviceSourceType": "esriImageServiceSourceTypeDataset",
 "minValues": [
  54
 ],
 "maxValues": [
  202
 ],
 "meanValues": [
  114.4862677301086
 ],
 "stdvValues": [
  21.24167631000598
 ],
 "objectIdField": "",
 "fields": [],
 "capabilities": "Image,Metadata,Mensuration",
 "defaultMosaicMethod": "Center",
 "allowedMosaicMethods": "",
 "sortField": "",
 "sortValue": null,
 "sortAscending": true,
 "mosaicOperator": "First",
 "defaultCompressionQuality": 75,
 "defaultResamplingMethod": "Bilinear",
 "maxImageHeight": 4100,
 "maxImageWidth": 15000,
 "allowRasterFunction": true,
 "rasterFunctionInfos": [
  {
   "name": "None",
   "description": "",
   "help": ""
  }
 ],
 "rasterTypeInfos": [
  {
   "name": "Raster Dataset",
   "description": "Supports all ArcGIS Raster Datasets",
   "help": ""
  }
 ],
 "mensurationCapabilities": "Basic",
 "hasHistograms": true,
 "hasColormap": false,
 "hasRasterAttributeTable": false,
 "minScale": 0,
 "maxScale": 0,
 "exportTilesAllowed": false,
 "supportsStatistics": false,
 "supportsAdvancedQueries": false,
 "editFieldsInfo": null,
 "ownershipBasedAccessControlForRasters": null,
 "allowComputeTiePoints": false,
 "useStandardizedQueries": true,
 "advancedQueryCapabilities": {
  "useStandardizedQueries": true,
  "supportsStatistics": false,
  "supportsOrderBy": false,
  "supportsDistinct": false,
  "supportsPagination": false
 },
 "spatialReference": {
  "wkid": 2149,
  "latestWkid": 2959
 }
}
