View In:
ArcGIS JavaScript
ArcGIS Online Map Viewer
ArcGIS Earth
ArcMap
View Footprint In:
ArcGIS Online Map Viewer
Service Description: BV_Imagery/SCOOP2_2019_TIF
Name: BV_Imagery/SCOOP2_2019_TIF
Description:
Single Fused Map Cache: false
Extent:
XMin: 302000.0001220703
YMin: 4889000.00012207
XMax: 321000.0001220703
YMax: 4914000.00012207
Spatial Reference: 26918
(26918)
Initial Extent:
XMin: 302000.0001220703
YMin: 4889000.00012207
XMax: 321000.0001220703
YMax: 4914000.00012207
Spatial Reference: 26918
(26918)
Full Extent:
XMin: 302000.0001220703
YMin: 4889000.00012207
XMax: 321000.0001220703
YMax: 4914000.00012207
Spatial Reference: 26918
(26918)
Pixel Size X: 0.16
Pixel Size Y: 0.16
Band Count: 4
Pixel Type: U8
RasterFunction Infos: {"rasterFunctionInfos": [{
"name": "None",
"description": "",
"help": ""
}]}
Mensuration Capabilities: Basic
Has Histograms: true
Has Colormap: false
Has Multi Dimensions : false
Rendering Rule:
Min Scale: 0
Max Scale: 0
Copyright Text:
Service Data Type: esriImageServiceDataTypeGeneric
Min Values: 0, 0, 0, 0
Max Values: 255, 255, 255, 255
Mean Values: 99.175755521148, 110.36420167182563, 99.89403471468323, 122.98048118125145
Standard Deviation Values: 44.24458048694563, 41.199850631387335, 36.82851710687087, 37.800344300266154
Object ID Field:
Fields:
None
Default Mosaic Method: Center
Allowed Mosaic Methods:
SortField:
SortValue: null
Mosaic Operator: First
Default Compression Quality: 75
Default Resampling Method: Bilinear
Max Record Count: null
Max Image Height: 4100
Max Image Width: 15000
Max Download Image Count: null
Max Mosaic Image Count: null
Allow Raster Function: true
Allow Copy: null
Allow Analysis: null
Allow Compute TiePoints: false
Supports Statistics: false
Supports Advanced Queries: false
Use StandardizedQueries: true
Raster Type Infos:
Name: Raster Dataset
Description: Supports all ArcGIS Raster Datasets
Help:
Has Raster Attribute Table: false
Edit Fields Info: null
Ownership Based AccessControl For Rasters: null
Child Resources:
Info
Histograms
Key Properties
Legend
Raster Function Infos
Supported Operations:
Export Image
Identify
Measure
Compute Histograms
Compute Statistics Histograms
Get Samples
Compute Class Statistics
Query Boundary
Compute Pixel Location
Compute Angles
Validate
Project