View In:
ArcGIS JavaScript
ArcGIS Online Map Viewer
ArcGIS Earth
ArcMap
View Footprint In:
ArcGIS Online Map Viewer
Service Description: BV_Imagery/SCOOP23
Name: BV_Imagery/SCOOP23
Description:
Single Fused Map Cache: false
Extent:
XMin: 301999.8401220694
YMin: 4888999.840122069
XMax: 321000.0001220694
YMax: 4914000.000122069
Spatial Reference: PROJCS["NAD83(CSRS)v2_UTM_Zone_18N",GEOGCS["NAD83(CSRS)v2",DATUM["North_American_Datum_of_1983_(CSRS)_version_2",SPHEROID["GRS_1980",6378137.0,298.257222101]],PRIMEM["Greenwich",0.0],UNIT["Degree",0.0174532925199433]],PROJECTION["Transverse_Mercator"],PARAMETER["False_Easting",500000.0],PARAMETER["False_Northing",0.0],PARAMETER["Central_Meridian",-75.0],PARAMETER["Scale_Factor",0.9996],PARAMETER["Latitude_Of_Origin",0.0],UNIT["Meter",1.0]]
Initial Extent:
XMin: 301999.8401220694
YMin: 4888999.840122069
XMax: 321000.0001220694
YMax: 4914000.000122069
Spatial Reference: PROJCS["NAD83(CSRS)v2_UTM_Zone_18N",GEOGCS["NAD83(CSRS)v2",DATUM["North_American_Datum_of_1983_(CSRS)_version_2",SPHEROID["GRS_1980",6378137.0,298.257222101]],PRIMEM["Greenwich",0.0],UNIT["Degree",0.0174532925199433]],PROJECTION["Transverse_Mercator"],PARAMETER["False_Easting",500000.0],PARAMETER["False_Northing",0.0],PARAMETER["Central_Meridian",-75.0],PARAMETER["Scale_Factor",0.9996],PARAMETER["Latitude_Of_Origin",0.0],UNIT["Meter",1.0]]
Full Extent:
XMin: 301999.8401220694
YMin: 4888999.840122069
XMax: 321000.0001220694
YMax: 4914000.000122069
Spatial Reference: PROJCS["NAD83(CSRS)v2_UTM_Zone_18N",GEOGCS["NAD83(CSRS)v2",DATUM["North_American_Datum_of_1983_(CSRS)_version_2",SPHEROID["GRS_1980",6378137.0,298.257222101]],PRIMEM["Greenwich",0.0],UNIT["Degree",0.0174532925199433]],PROJECTION["Transverse_Mercator"],PARAMETER["False_Easting",500000.0],PARAMETER["False_Northing",0.0],PARAMETER["Central_Meridian",-75.0],PARAMETER["Scale_Factor",0.9996],PARAMETER["Latitude_Of_Origin",0.0],UNIT["Meter",1.0]]
Pixel Size X: 0.15999999999999978
Pixel Size Y: 0.16000000000000095
Band Count: 4
Pixel Type: U8
RasterFunction Infos: {"rasterFunctionInfos": [{
"name": "None",
"description": "",
"help": ""
}]}
Mensuration Capabilities: Basic
Has Histograms: true
Has Colormap: false
Has Multi Dimensions : false
Rendering Rule:
Min Scale: 0
Max Scale: 0
Copyright Text:
Service Data Type: esriImageServiceDataTypeGeneric
Min Values: 1, 6, 8, 1
Max Values: 255, 255, 255, 255
Mean Values: 100.61522473880362, 95.08479158649426, 90.07178738635407, 103.36719958715166
Standard Deviation Values: 41.74835393062663, 34.645099088634375, 28.825123339528687, 42.603133429458765
Object ID Field:
Fields:
None
Default Mosaic Method: Center
Allowed Mosaic Methods:
SortField:
SortValue: null
Mosaic Operator: First
Default Compression Quality: 75
Default Resampling Method: Bilinear
Max Record Count: null
Max Image Height: 4100
Max Image Width: 15000
Max Download Image Count: null
Max Mosaic Image Count: null
Allow Raster Function: true
Allow Copy: true
Allow Analysis: true
Allow Compute TiePoints: false
Supports Statistics: false
Supports Advanced Queries: false
Use StandardizedQueries: true
Raster Type Infos:
Name: Raster Dataset
Description: Supports all ArcGIS Raster Datasets
Help:
Has Raster Attribute Table: false
Edit Fields Info: null
Ownership Based AccessControl For Rasters: null
Child Resources:
Info
Histograms
Statistics
Key Properties
Legend
Raster Function Infos
Supported Operations:
Export Image
Identify
Measure
Compute Histograms
Compute Statistics Histograms
Get Samples
Compute Class Statistics
Query Boundary
Compute Pixel Location
Compute Angles
Validate
Project