{
 "currentVersion": 10.91,
 "serviceDescription": "BV_Imagery/BV_Hillshade_2022",
 "name": "BV_Imagery/BV_Hillshade_2022",
 "description": "",
 "extent": {
  "xmin": 302236.7114162529,
  "ymin": 4889470.245795523,
  "xmax": 320726.7114162529,
  "ymax": 4913761.745795523,
  "spatialReference": {
   "wkt": "PROJCS[\"NAD83(CSRS) / NAD83(CSRS) / UTM zone 18N\",GEOGCS[\"NAD83(CSRS)\",DATUM[\"NAD83_Canadian_Spatial_Reference_System\",SPHEROID[\"GRS 1980\",6378137.0,298.257222101]],PRIMEM[\"Greenwich\",0.0],UNIT[\"degree\",0.0174532925199433]],PROJECTION[\"Transverse_Mercator\"],PARAMETER[\"false_easting\",500000.0],PARAMETER[\"false_northing\",0.0],PARAMETER[\"central_meridian\",-75.0],PARAMETER[\"scale_factor\",0.9996],PARAMETER[\"latitude_of_origin\",0.0],UNIT[\"metre\",1.0]],VERTCS[\"CGVD2013\",VDATUM[\"Canadian Geodetic Vertical Datum of 2013\"],PARAMETER[\"Vertical_Shift\",0.0],PARAMETER[\"Direction\",1.0],UNIT[\"metre\",1.0]]"
  }
 },
 "initialExtent": {
  "xmin": 302236.7114162529,
  "ymin": 4889470.245795523,
  "xmax": 320726.7114162529,
  "ymax": 4913761.745795523,
  "spatialReference": {
   "wkt": "PROJCS[\"NAD83(CSRS) / NAD83(CSRS) / UTM zone 18N\",GEOGCS[\"NAD83(CSRS)\",DATUM[\"NAD83_Canadian_Spatial_Reference_System\",SPHEROID[\"GRS 1980\",6378137.0,298.257222101]],PRIMEM[\"Greenwich\",0.0],UNIT[\"degree\",0.0174532925199433]],PROJECTION[\"Transverse_Mercator\"],PARAMETER[\"false_easting\",500000.0],PARAMETER[\"false_northing\",0.0],PARAMETER[\"central_meridian\",-75.0],PARAMETER[\"scale_factor\",0.9996],PARAMETER[\"latitude_of_origin\",0.0],UNIT[\"metre\",1.0]],VERTCS[\"CGVD2013\",VDATUM[\"Canadian Geodetic Vertical Datum of 2013\"],PARAMETER[\"Vertical_Shift\",0.0],PARAMETER[\"Direction\",1.0],UNIT[\"metre\",1.0]]"
  }
 },
 "fullExtent": {
  "xmin": 302236.7114162529,
  "ymin": 4889470.245795523,
  "xmax": 320726.7114162529,
  "ymax": 4913761.745795523,
  "spatialReference": {
   "wkt": "PROJCS[\"NAD83(CSRS) / NAD83(CSRS) / UTM zone 18N\",GEOGCS[\"NAD83(CSRS)\",DATUM[\"NAD83_Canadian_Spatial_Reference_System\",SPHEROID[\"GRS 1980\",6378137.0,298.257222101]],PRIMEM[\"Greenwich\",0.0],UNIT[\"degree\",0.0174532925199433]],PROJECTION[\"Transverse_Mercator\"],PARAMETER[\"false_easting\",500000.0],PARAMETER[\"false_northing\",0.0],PARAMETER[\"central_meridian\",-75.0],PARAMETER[\"scale_factor\",0.9996],PARAMETER[\"latitude_of_origin\",0.0],UNIT[\"metre\",1.0]],VERTCS[\"CGVD2013\",VDATUM[\"Canadian Geodetic Vertical Datum of 2013\"],PARAMETER[\"Vertical_Shift\",0.0],PARAMETER[\"Direction\",1.0],UNIT[\"metre\",1.0]]"
  }
 },
 "heightModelInfo": {
  "heightModel": "gravity_related_height",
  "vertCRS": "CGVD2013",
  "heightUnit": "meter"
 },
 "hasMultidimensions": false,
 "pixelSizeX": 0.5,
 "pixelSizeY": 0.5,
 "datasetFormat": "FGDBR",
 "uncompressedSize": 1796599340,
 "blockWidth": 128,
 "blockHeight": 128,
 "compressionType": "LZ77",
 "bandNames": [
  "Band_1"
 ],
 "allowCopy": true,
 "allowAnalysis": true,
 "bandCount": 1,
 "pixelType": "U8",
 "minPixelSize": 0,
 "maxPixelSize": 0,
 "copyrightText": "",
 "serviceDataType": "esriImageServiceDataTypeGeneric",
 "serviceSourceType": "esriImageServiceSourceTypeDataset",
 "minValues": [
  0
 ],
 "maxValues": [
  254
 ],
 "meanValues": [
  179.35743467411038
 ],
 "stdvValues": [
  11.781065934247696
 ],
 "objectIdField": "",
 "fields": [],
 "capabilities": "Image,Metadata,Mensuration",
 "defaultMosaicMethod": "Center",
 "allowedMosaicMethods": "",
 "sortField": "",
 "sortValue": null,
 "sortAscending": true,
 "mosaicOperator": "First",
 "defaultCompressionQuality": 75,
 "defaultResamplingMethod": "Bilinear",
 "maxImageHeight": 4100,
 "maxImageWidth": 15000,
 "allowRasterFunction": true,
 "rasterFunctionInfos": [
  {
   "name": "None",
   "description": "",
   "help": ""
  }
 ],
 "rasterTypeInfos": [
  {
   "name": "Raster Dataset",
   "description": "Supports all ArcGIS Raster Datasets",
   "help": ""
  }
 ],
 "mensurationCapabilities": "Basic",
 "hasHistograms": true,
 "hasColormap": false,
 "hasRasterAttributeTable": true,
 "minScale": 0,
 "maxScale": 0,
 "exportTilesAllowed": false,
 "supportsStatistics": false,
 "supportsAdvancedQueries": false,
 "editFieldsInfo": null,
 "ownershipBasedAccessControlForRasters": null,
 "allowComputeTiePoints": false,
 "useStandardizedQueries": true,
 "advancedQueryCapabilities": {
  "useStandardizedQueries": true,
  "supportsStatistics": false,
  "supportsOrderBy": false,
  "supportsDistinct": false,
  "supportsPagination": false
 },
 "spatialReference": {
  "wkt": "PROJCS[\"NAD83(CSRS) / NAD83(CSRS) / UTM zone 18N\",GEOGCS[\"NAD83(CSRS)\",DATUM[\"NAD83_Canadian_Spatial_Reference_System\",SPHEROID[\"GRS 1980\",6378137.0,298.257222101]],PRIMEM[\"Greenwich\",0.0],UNIT[\"degree\",0.0174532925199433]],PROJECTION[\"Transverse_Mercator\"],PARAMETER[\"false_easting\",500000.0],PARAMETER[\"false_northing\",0.0],PARAMETER[\"central_meridian\",-75.0],PARAMETER[\"scale_factor\",0.9996],PARAMETER[\"latitude_of_origin\",0.0],UNIT[\"metre\",1.0]],VERTCS[\"CGVD2013\",VDATUM[\"Canadian Geodetic Vertical Datum of 2013\"],PARAMETER[\"Vertical_Shift\",0.0],PARAMETER[\"Direction\",1.0],UNIT[\"metre\",1.0]]"
 }
}
